







BEGIN:VCALENDAR
VERSION:2.0
PRODID:-//CBS Band - ECPv6.15.20//NONSGML v1.0//EN
CALSCALE:GREGORIAN
METHOD:PUBLISH
X-WR-CALNAME:CBS Band
X-ORIGINAL-URL:https://cbsband.ca
X-WR-CALDESC:Events for CBS Band
REFRESH-INTERVAL;VALUE=DURATION:PT1H
X-Robots-Tag:noindex
X-PUBLISHED-TTL:PT1H
BEGIN:VTIMEZONE
TZID:America/St_Johns
BEGIN:DAYLIGHT
TZOFFSETFROM:-0330
TZOFFSETTO:-0230
TZNAME:NDT
DTSTART:20240310T053000
END:DAYLIGHT
BEGIN:STANDARD
TZOFFSETFROM:-0230
TZOFFSETTO:-0330
TZNAME:NST
DTSTART:20241103T043000
END:STANDARD
BEGIN:DAYLIGHT
TZOFFSETFROM:-0330
TZOFFSETTO:-0230
TZNAME:NDT
DTSTART:20250309T053000
END:DAYLIGHT
BEGIN:STANDARD
TZOFFSETFROM:-0230
TZOFFSETTO:-0330
TZNAME:NST
DTSTART:20251102T043000
END:STANDARD
BEGIN:DAYLIGHT
TZOFFSETFROM:-0330
TZOFFSETTO:-0230
TZNAME:NDT
DTSTART:20260308T053000
END:DAYLIGHT
BEGIN:STANDARD
TZOFFSETFROM:-0230
TZOFFSETTO:-0330
TZNAME:NST
DTSTART:20261101T043000
END:STANDARD
BEGIN:DAYLIGHT
TZOFFSETFROM:-0330
TZOFFSETTO:-0230
TZNAME:NDT
DTSTART:20270314T053000
END:DAYLIGHT
BEGIN:STANDARD
TZOFFSETFROM:-0230
TZOFFSETTO:-0330
TZNAME:NST
DTSTART:20271107T043000
END:STANDARD
END:VTIMEZONE
BEGIN:VEVENT
DTSTART;TZID=America/St_Johns:20251129T183000
DTEND;TZID=America/St_Johns:20251129T223000
DTSTAMP:20260422T000316
CREATED:20250917T134906Z
LAST-MODIFIED:20251112T161216Z
UID:11103-1764441000-1764455400@cbsband.ca
SUMMARY:CBS Band is Home for the Holidays!
DESCRIPTION:Start the Christmas season off right! \nThe CBS Band is Home for the Holidays\, with a night of fabulous live music\, a delicious turkey dinner\, and festive raffles! \nFeaturing the CBS Concert Band and Jazz Band. \nSaturday\, November 29\, 2025\, 6:30 pm\nAll Saints Parish Hall\n419 Conception Bay Hwy\, Foxtrap \nAdults: $40\nChildren (12 and under): $25 \nTickets
URL:https://cbsband.ca/event/home-for-the-holidays/
LOCATION:All Saints Parish Hall\, 419 Conception Bay Hwy\, Conception Bay South\, NL\, Canada
ATTACH;FMTTYPE=image/jpeg:https://cbsband.ca/wp-content/uploads/2024/05/Home-for-the-Holidays-Image.jpg
ORGANIZER;CN="CBS Band":MAILTO:mail@cbsband.ca
END:VEVENT
BEGIN:VEVENT
DTSTART;TZID=America/St_Johns:20251209T190000
DTEND;TZID=America/St_Johns:20251209T200000
DTSTAMP:20260422T000316
CREATED:20251118T215023Z
LAST-MODIFIED:20251209T192252Z
UID:11624-1765306800-1765310400@cbsband.ca
SUMMARY:Concert – Heritage Square Retirement Living
DESCRIPTION:THIS EVENT HAS BEEN CANCELLED AND WILL BE RESCHEDULED. \nCBS Concert Band will entertain the residents of the Heritage Square Retirement Living Personal Care Home. \nFeaturing Christmas music from classical to contemporary\, and a good old-fashioned Christmas Carol Sing-A-Long! \nCall time for musicians: 6:40 pm.
URL:https://cbsband.ca/event/concert-heritage-square-retirement-living/
LOCATION:Heritage Square Retirement Living\, 353 Conception Bay Hwy\, Conception Bay South\, NL\, A1X 7A2
ATTACH;FMTTYPE=image/jpeg:https://cbsband.ca/wp-content/uploads/2019/10/heritage-square.jpg
END:VEVENT
BEGIN:VEVENT
DTSTART;TZID=America/St_Johns:20251218T183000
DTEND;TZID=America/St_Johns:20251218T190000
DTSTAMP:20260422T000316
CREATED:20251022T132806Z
LAST-MODIFIED:20251215T234403Z
UID:11456-1766082600-1766084400@cbsband.ca
SUMMARY:Queen Elizabeth Regional High School Annual Awards Night
DESCRIPTION:Awards night for graduates of Queen Elizabeth Regional High School.\nPerformance by the CBS Concert Band. \nCall time for musicians: 6:00 pm.
URL:https://cbsband.ca/event/queen-elizabeth-regional-high-school-annual-awards-night/
LOCATION:Queen Elizabeth Regional High School\, 360 Foxtrap Access Rd\, Conception Bay South\, NL\, Canada
CATEGORIES:Performance
ATTACH;FMTTYPE=image/jpeg:https://cbsband.ca/wp-content/uploads/2018/09/QERHS-1.jpg
END:VEVENT
BEGIN:VEVENT
DTSTART;TZID=America/St_Johns:20260426T130000
DTEND;TZID=America/St_Johns:20260426T150000
DTSTAMP:20260422T000316
CREATED:20250917T151942Z
LAST-MODIFIED:20260414T135840Z
UID:11108-1777208400-1777215600@cbsband.ca
SUMMARY:Sci-Fi on the Rock
DESCRIPTION:Save the date! \nCBS Concert Band will be performing music from sci-fi\, fantasy\, and video games at Sci-Fi on the Rock! \nThis is a free performance* in the Atrium of the Sheraton Hotel Newfoundland on Sunday\, April 26th\, 1:00 to 3:00 pm. \n*Ticket purchase is only required if you wish to access other areas of the convention.
URL:https://cbsband.ca/event/sci-fi-on-the-rock-2026/
LOCATION:Sheraton Hotel Newfoundland\, 115 Cavendish Square\, St. John's\, NL\, A1C 2B9\, Canada
CATEGORIES:Performance
ATTACH;FMTTYPE=image/jpeg:https://cbsband.ca/wp-content/uploads/2025/09/Sci-Fi-on-the-Rock-2026.jpg
END:VEVENT
BEGIN:VEVENT
DTSTART;TZID=America/St_Johns:20260613T200000
DTEND;TZID=America/St_Johns:20260613T220000
DTSTAMP:20260422T000316
CREATED:20250917T155348Z
LAST-MODIFIED:20250917T155348Z
UID:11114-1781380800-1781388000@cbsband.ca
SUMMARY:Majestic Movie Music 2
DESCRIPTION:Save the date! \nCBS Band returns with a new roster of incredible movie music! \nExperience the legendary and award winning musical scores from your favourite films\, live at the Majestic Theatre with the CBS Concert Band and CBS Jazz Band. \nDetails to come!
URL:https://cbsband.ca/event/majestic-movie-music-2/
LOCATION:The Majestic Theatre\, 390 Duckworth St\, St. John's\, NL\, A1C 1H7\, Canada
CATEGORIES:Performance
ATTACH;FMTTYPE=image/jpeg:https://cbsband.ca/wp-content/uploads/2024/09/Majestic-Theatre.jpg
ORGANIZER;CN="CBS Band":MAILTO:mail@cbsband.ca
END:VEVENT
END:VCALENDAR